Workbook

Sheet SUMMARY
A1: Annexure - I
A2: Format of holding of specified securities
A3: 1. | B3: Name of Listed Entity: | J3: RELIABLE DATA SERVICES LTD
A4: 2. | B4: Scrip Code/Name of Scrip/Class of Security
A5: 3. | B5: Share Holding Pattern Filed under: Reg. 31(1)(a)/Reg. 31(1)(b)/Reg.31(1)(c) | J5: Reg.31(1)( b)
B6: a. | C6: If under 31(1)(b) then indicate the report for Quarter ending | J6: 31/03/2026
B7: b. | C7: If under 31(1)(c) then indicate date of allotment/extinguishment
A8: 4. | B8: Declaration: The Listed entity is required to submit the following declaration to the extent of submission of information:-
C10: Particulars | J10: Yes* | K10: No*
B11: 1. | C11: Whether the Listed Entity has issued any partly paid up shares? | K11: No
B12: 2. | C12: Whether the Listed Entity has issued any Convertible Securities or Warrants? | K12: No
B13: 3. | C13: Whether the Listed Entity has any shares against which depository receipts are issued? | K13: No
B14: 4. | C14: Whether the Listed Entity has any shares in locked-in? | K14: No
B15: 5. | C15: Whether any shares held by promoters are pledge or otherwise encumbered? | K15: No
B17: * If the Listed Entity selects the option ‘No’ for the questions above, the columns for the partly paid up shares, Outstanding Convertible Securities/Warrants, depository receipts, locked-in shares, No of shares pledged or otherwise encumbered by promoters, as applicable, shall not be displayed at the time of dissemination on the Stock Exchange website. Also wherever there is ‘No’ declared by Listed Entity in above table the values will be considered as ‘Zero’ by default on submission of the format of holding of specified securities.
A19: 5. | B19: The tabular format for disclosure of holding of specified securities is as follows:-

Sheet Table I
A1: Table I - Summary Statement holding of specified securities
A2: Category | B2: Category of shareholder | C2: Nos. of shareh olders | D2: No. of fully paid up equity shares held | E2: No. of Partly paid-up equity shares held | F2: No. of shares underlying Depository Receipts | G2: Total nos. shares held | H2: Shareholding as a % of total no. of shares (calculated as per SCRR, 1957) As a % of (A+B+C2) | I2: Number of Voting Rights held in each class of securities | M2: No. Of Shares Underlying Outstanding convertible securities | N2: No. of Shares Underlying Outstanding Warrants | O2: No. Of Outstanding ESOP Granted | P2: No. of Shares Underlying Outstanding convertible securities (including Warrants ESOP etc) | Q2: Total No of shareson fully diluted basis (including warrants ESOP, convertible securities etc. | R2: Shareholding , as a % assuming full conversion of convertible securities ( as a percentage of diluted share capital) As a % of (A+B+C2) | S2: Number of Locked in shares | U2: Number of Shares pledged or otherwise encumbered | W2: Non-Disposal Undertaking | Y2: Other encumbrances, if any | AA2: Total Number of shares encumbered | AC2: Number of equity shares held in dematerialized form
I3: No of Voting Rights | L3: Total as a % of (A+B+C) | S3: No. (a) | T3: As a % of total Shares held (b) | U3: No. (a) | V3: As a % of total Shares held (b) | W3: No. (a) | X3: As a % of total Shares held (b) | Y3: No. (a) | Z3: As a % of total Shares held (b) | AA3: No. (a) | AB3: As a % of total Shares held (b)
I4: Class:Equity | J4: Classeg:y | K4: Total
A5: (I) | B5: (II) | C5: (III) | D5: (IV) | E5: (V) | F5: (VI) | G5: (VII)=(IV)+(V)+ (VI) | H5: (VIII) | I5: (IX) | P5: (X) | Q5: (XI)=(VII)+(X) | R5: (XII)= (VII)+(X) | S5: (XIII) | U5: (XIV) | W5: (XV) | Y5: (XVI) | AA5: (XVII)=(XIV+XV+XVI) | AC5: (XVIII)
A6: (A) | B6: Promoter & Promoter Group | C6: 10 | D6: 6996198 | E6: 0 | G6: =SUM(D6:F6) -> 6996198 | H6: =(G6/(G11-G9))*100 -> 67.792616 | I6: 6996198 | K6: =(I6+J6) -> 6996198 | L6: =(K6/K11)*100 -> 67.792616 | M6: 0 | N6: 0 | O6: 0 | P6: 0 | Q6: =(G6+P6) -> 6996198 | R6: =(G6+P6)/(G11+M11-G9)*100 -> 67.792616 | S6: 0 | U6: 0 | W6: 0 | Y6: 0 | AA6: =(U6+W6+Y6) -> 0 | AC6: 6996198
A7: (B) | B7: Public | C7: 5388 | D7: 3323802 | E7: 0 | G7: =SUM(D7:F7) -> 3323802 | H7: =(G7/(G11-G9))*100 -> 32.207384 | I7: 3323802 | K7: =(I7+J7) -> 3323802 | L7: =(K7/K11)*100 -> 32.207384 | M7: 0 | N7: 0 | O7: 0 | P7: 0 | Q7: =(G7+P7) -> 3323802 | R7: =(G7+P7)/(G11+M11-G9)*100 -> 32.207384 | S7: 0 | U7: 375224 | V7: =(U7/(G7))*100 -> 11.289 | W7: 0 | Y7: 0 | AA7: 0 | AB7: 0 | AC7: 3323801
A8: (C) | B8: Non Promoter- Non Public | G8: =SUM(D8:F8) -> 0
A9: (C1) | B9: Shares underlying DRs | C9: 0 | F9: 0 | G9: =SUM(D9:F9) -> 0 | I9: 0 | K9: =(I9+J9) -> 0 | L9: =(K9/K11)*100 -> 0 | M9: 0 | N9: 0 | S9: 0 | U9: 0 | W9: 0 | Y9: 0 | AA9: 0 | AB9: 0 | AC9: 0
A10: (C2) | B10: Shares held by Employee Trusts | C10: 0 | D10: 0 | E10: 0 | G10: =SUM(D10:F10) -> 0 | H10: =(G10/(G11-G9))*100 -> 0 | I10: 0 | K10: =(I10+J10) -> 0 | L10: =(K10/K11)*100 -> 0 | M10: 0 | N10: 0 | O10: 0 | P10: 0 | Q10: =(G10+P10) -> 0 | R10: =(G10+P10)/(G11+M11-G9)*100 -> 0 | S10: 0 | U10: 0 | W10: 0 | Y10: 0 | AA10: 0 | AB10: 0 | AC10: 0
B11: Total | C11: =SUM(C6:C10) -> 5398 | D11: =SUM(D6:D10) -> 10320000 | E11: =SUM(E6:E10) -> 0 | F11: =SUM(F6:F10) -> 0 | G11: =SUM(G6:G10) -> 10320000 | H11: =SUM(H6:H10) -> 100 | I11: =SUM(I6:I10) -> 10320000 | J11: =SUM(J6:J10) -> 0 | ... AC11: =SUM(AC6:AC10) -> 10319999

Sheet Table II
A1: Table II - Statement showing shareholding pattern of the Promoter and Promoter Group
C2: Category & Name of the Shareholders | D2: Entity type i.e. promoter OR promoter group entity (except promotor) | E2: PAN | F2: No. of shareholder | G2: No. of fully paid up equity shares held | H2: Partly paid-up equity shares held | I2: Nos. of shares underlying Depository Receipts | J2: Total nos. shares held | K2: Shareholding % calculated as per SCRR, 1957 As a % of (A+B+C2) | L2: Number of Voting Rights held in each class of securities | P2: No. Of Shares Underlying Outstanding convertible securities | Q2: No. of Shares Underlying Outstanding Warrants | R2: No. Of Outstanding ESOP Granted | S2: No. of Shares Underlying Outstanding convertible securities (including Warrants, ESOP etc) | T2: Total No of shares on fully diluted basis (including warrants,ESOP, convertible securities etc) | U2: Total Shareholding , as a % assuming full conversion of convertible securities (as a percentage of diluted share capital) as a % of A+B+C2 | V2: Number of Locked in shares | X2: Number of Shares pledged or otherwise encumbered | Z2: Non Disposal Undertakin | AB2: Other encumbrances if any | AD2: Total Number of shares encumbered | AF2: Number of equity shares held in dematerializ ed form
L3: No of Voting Rights | O3: Total as a % of Total Voting rights | V3: No. (a) | W3: As a % of total Shares held (b) | X3: No. (a) | Y3: As a % of total share s held (b) | Z3: No. (a) | AA3: As a % of total share s held (b) | AB3: No. (a) | AC3: As a % of total share s held (b) | AD3: No. (a) | AE3: As a % of total share s held (b)
L4: Class X | M4: Class Y | N4: Total
C5: (I) | D5: (II) | E5: (III) | F5: (IV) | G5: (V) | H5: (VI) | I5: (VII) | J5: (VIII)=(V)+(VI)+(VII) | K5: (IX) | L5: (X) | S5: (XI) | T5: (XII)= (VIII)+(XI) | U5: (XIII)= (VIII)+(XI) | V5: (XIV) | X5: (XV) | Z5: (XVI) | AB5: (XVII) | AD5: (XVIII) | AF5: (XIX)
A6: 1 | C6: Indian
B7: (a) | C7: Individual/Hindu Undivided Family | F7: 10 | G7: =SUM(G8:G17) -> 6996198 | H7: =SUM(H8:H17) -> 0 | I7: =SUM(I8:I17) -> 0 | J7: =G7+H7+I7 -> 6996198 | K7: =(J7/('Table I'!G11-'Table I'!G9)*100) -> 67.792616 | L7: =SUM(L8:L17) -> 6996198 | M7: =SUM(M8:M17) -> 0 | N7: =L7+M7 -> 6996198 | O7: =(N7)/'Table I'!K11*100 -> 67.792616 | P7: =SUM(P8:P17) -> 0 | Q7: =SUM(Q8:Q17) -> 0 | R7: =SUM(R8:R17) -> 0 | S7: =SUM(S8:S17) -> 0 | T7: =J7+S7 -> 6996198 | U7: =(S7+J7)/(S29+'Table I'!G11-'Table I'!G9)*100 -> 67.792616 | V7: =SUM(V8:V17) -> 0 | W7: 0 | X7: =SUM(X8:X17) -> 0 | Y7: 0 | Z7: =SUM(Z8:Z17) -> 0 | AA7: =SUM(AA8:AA17) -> 0 | AB7: 0 | AC7: 0 | AD7: =X7+Z7+AB7 -> 0 | AE7: 0 | AF7: =SUM(AF8:AF17) -> 6996198
C8: SANJAY KUMAR PATHAK | E8: AANPP1285F | G8: 1584364 | H8: 0 | J8: =G8+H8+I8 -> 1584364 | K8: =(J8/('Table I'!G11-'Table I'!G9)*100) -> 15.352364 | L8: 1584364 | N8: =L8+M8 -> 1584364 | O8: =(N8)/'Table I'!K11*100 -> 15.352364 | S8: 0 | T8: =J8+S8 -> 1584364 | U8: =(S8+J8)/(S29+'Table I'!G11-'Table I'!G9)*100 -> 15.352364 | V8: 0 | W8: 0 | X8: 0 | Y8: 0 | Z8: 0 | AB8: 0 | AC8: 0 | AD8: =X8+Z8+AB8 -> 0 | AE8: 0 | AF8: 1584364
C9: RAKESH JHA | E9: ADKPJ6675K | G9: 1551964 | H9: 0 | J9: =G9+H9+I9 -> 1551964 | K9: =(J9/('Table I'!G11-'Table I'!G9)*100) -> 15.038411 | L9: 1551964 | N9: =L9+M9 -> 1551964 | O9: =(N9)/'Table I'!K11*100 -> 15.038411 | S9: 0 | T9: =J9+S9 -> 1551964 | U9: =(S9+J9)/(S29+'Table I'!G11-'Table I'!G9)*100 -> 15.038411 | V9: 0 | W9: 0 | X9: 0 | Y9: 0 | Z9: 0 | AB9: 0 | AC9: 0 | AD9: =X9+Z9+AB9 -> 0 | AE9: 0 | AF9: 1551964
C10: SUNIL KUMAR RAI | E10: ACQPR1035A | G10: 1369164 | H10: 0 | J10: =G10+H10+I10 -> 1369164 | K10: =(J10/('Table I'!G11-'Table I'!G9)*100) -> 13.267093 | L10: 1369164 | N10: =L10+M10 -> 1369164 | O10: =(N10)/'Table I'!K11*100 -> 13.267093 | S10: 0 | T10: =J10+S10 -> 1369164 | U10: =(S10+J10)/(S29+'Table I'!G11-'Table I'!G9)*100 -> 13.267093 | V10: 0 | W10: 0 | X10: 0 | Y10: 0 | Z10: 0 | AB10: 0 | AC10: 0 | AD10: =X10+Z10+AB10 -> 0 | AE10: 0 | AF10: 1369164
C11: SANDEEP KUMAR JHA | E11: ACUPJ8123D | G11: 1287962 | H11: 0 | J11: =G11+H11+I11 -> 1287962 | K11: =(J11/('Table I'!G11-'Table I'!G9)*100) -> 12.480252 | L11: 1287962 | N11: =L11+M11 -> 1287962 | O11: =(N11)/'Table I'!K11*100 -> 12.480252 | S11: 0 | T11: =J11+S11 -> 1287962 | U11: =(S11+J11)/(S29+'Table I'!G11-'Table I'!G9)*100 -> 12.480252 | V11: 0 | W11: 0 | X11: 0 | Y11: 0 | Z11: 0 | AB11: 0 | AC11: 0 | AD11: =X11+Z11+AB11 -> 0 | AE11: 0 | AF11: 1287962
C12: ANIL KUMAR JHA | E12: AGCPJ8322J | G12: 1124400 | H12: 0 | J12: =G12+H12+I12 -> 1124400 | K12: =(J12/('Table I'!G11-'Table I'!G9)*100) -> 10.895349 | L12: 1124400 | N12: =L12+M12 -> 1124400 | O12: =(N12)/'Table I'!K11*100 -> 10.895349 | S12: 0 | T12: =J12+S12 -> 1124400 | U12: =(S12+J12)/(S29+'Table I'!G11-'Table I'!G9)*100 -> 10.895349 | V12: 0 | W12: 0 | X12: 0 | Y12: 0 | Z12: 0 | AB12: 0 | AC12: 0 | AD12: =X12+Z12+AB12 -> 0 | AE12: 0 | AF12: 1124400
C13: SRISHTI JHA | E13: AIDPJ1525E | G13: 38436 | H13: 0 | J13: =G13+H13+I13 -> 38436 | K13: =(J13/('Table I'!G11-'Table I'!G9)*100) -> 0.37244186 | L13: 38436 | N13: =L13+M13 -> 38436 | O13: =(N13)/'Table I'!K11*100 -> 0.37244186 | S13: 0 | T13: =J13+S13 -> 38436 | U13: =(S13+J13)/(S29+'Table I'!G11-'Table I'!G9)*100 -> 0.37244186 | V13: 0 | W13: 0 | X13: 0 | Y13: 0 | Z13: 0 | AB13: 0 | AC13: 0 | AD13: =X13+Z13+AB13 -> 0 | AE13: 0 | AF13: 38436
C14: RAVI ANAND JHA | E14: AZNPJ9584E | G14: 24000 | H14: 0 | J14: =G14+H14+I14 -> 24000 | K14: =(J14/('Table I'!G11-'Table I'!G9)*100) -> 0.23255814 | L14: 24000 | N14: =L14+M14 -> 24000 | O14: =(N14)/'Table I'!K11*100 -> 0.23255814 | S14: 0 | T14: =J14+S14 -> 24000 | U14: =(S14+J14)/(S29+'Table I'!G11-'Table I'!G9)*100 -> 0.23255814 | V14: 0 | W14: 0 | X14: 0 | Y14: 0 | Z14: 0 | AB14: 0 | AC14: 0 | AD14: =X14+Z14+AB14 -> 0 | AE14: 0 | AF14: 24000
C15: ANSHU JHA | E15: AHLPJ9925F | G15: 14336 | H15: 0 | J15: =G15+H15+I15 -> 14336 | K15: =(J15/('Table I'!G11-'Table I'!G9)*100) -> 0.13891473 | L15: 14336 | N15: =L15+M15 -> 14336 | O15: =(N15)/'Table I'!K11*100 -> 0.13891473 | S15: 0 | T15: =J15+S15 -> 14336 | U15: =(S15+J15)/(S29+'Table I'!G11-'Table I'!G9)*100 -> 0.13891473 | V15: 0 | W15: 0 | X15: 0 | Y15: 0 | Z15: 0 | AB15: 0 | AC15: 0 | AD15: =X15+Z15+AB15 -> 0 | AE15: 0 | AF15: 14336
C16: MEENU RAI | E16: ALAPR0461R | G16: 1136 | H16: 0 | J16: =G16+H16+I16 -> 1136 | K16: =(J16/('Table I'!G11-'Table I'!G9)*100) -> 0.011007752 | L16: 1136 | N16: =L16+M16 -> 1136 | O16: =(N16)/'Table I'!K11*100 -> 0.011007752 | S16: 0 | T16: =J16+S16 -> 1136 | U16: =(S16+J16)/(S29+'Table I'!G11-'Table I'!G9)*100 -> 0.011007752 | V16: 0 | W16: 0 | X16: 0 | Y16: 0 | Z16: 0 | AB16: 0 | AC16: 0 | AD16: =X16+Z16+AB16 -> 0 | AE16: 0 | AF16: 1136
C17: MEENAKSHI PATHAK | E17: AHBPP1179K | G17: 436 | H17: 0 | J17: =G17+H17+I17 -> 436 | K17: =(J17/('Table I'!G11-'Table I'!G9)*100) -> 0.0042248062 | L17: 436 | N17: =L17+M17 -> 436 | O17: =(N17)/'Table I'!K11*100 -> 0.0042248062 | S17: 0 | T17: =J17+S17 -> 436 | U17: =(S17+J17)/(S29+'Table I'!G11-'Table I'!G9)*100 -> 0.0042248062 | V17: 0 | W17: 0 | X17: 0 | Y17: 0 | Z17: 0 | AB17: 0 | AC17: 0 | AD17: =X17+Z17+AB17 -> 0 | AE17: 0 | AF17: 436
B18: (b) | C18: Central Government/State Government(s) | F18: 0 | G18: 0 | H18: 0 | I18: 0 | J18: =G18+H18+I18 -> 0 | K18: =(J18/('Table I'!G11-'Table I'!G9)*100) -> 0 | L18: 0 | M18: 0 | N18: =L18+M18 -> 0 | O18: =(N18)/'Table I'!K11*100 -> 0 | P18: 0 | Q18: 0 | R18: 0 | S18: 0 | T18: =J18+S18 -> 0 | U18: =(S18+J18)/(S29+'Table I'!G11-'Table I'!G9)*100 -> 0 | V18: 0 | W18: 0 | X18: 0 | Y18: 0 | Z18: 0 | AA18: 0 | AB18: 0 | AC18: 0 | AD18: =X18+Z18+AB18 -> 0 | AE18: 0 | AF18: 0
B19: (c) | C19: Financial Institutions/Banks | F19: 0 | G19: 0 | H19: 0 | I19: 0 | J19: =G19+H19+I19 -> 0 | K19: =(J19/('Table I'!G11-'Table I'!G9)*100) -> 0 | L19: 0 | M19: 0 | N19: =L19+M19 -> 0 | O19: =(N19)/'Table I'!K11*100 -> 0 | P19: 0 | Q19: 0 | R19: 0 | S19: 0 | T19: =J19+S19 -> 0 | U19: =(S19+J19)/(S29+'Table I'!G11-'Table I'!G9)*100 -> 0 | V19: 0 | W19: 0 | X19: 0 | Y19: 0 | Z19: 0 | AA19: 0 | AB19: 0 | AC19: 0 | AD19: =X19+Z19+AB19 -> 0 | AE19: 0 | AF19: 0
B20: (d) | C20: Any Other (Specify) | F20: 0 | G20: 0 | H20: 0 | I20: 0 | J20: =G20+H20+I20 -> 0 | K20: =(J20/('Table I'!G11-'Table I'!G9)*100) -> 0 | L20: 0 | M20: 0 | N20: =L20+M20 -> 0 | O20: =(N20)/'Table I'!K11*100 -> 0 | P20: 0 | Q20: 0 | R20: 0 | S20: 0 | T20: =J20+S20 -> 0 | U20: =(S20+J20)/(S29+'Table I'!G11-'Table I'!G9)*100 -> 0 | V20: 0 | W20: 0 | X20: 0 | Y20: 0 | Z20: 0 | AA20: 0 | AB20: 0 | AC20: 0 | AD20: =X20+Z20+AB20 -> 0 | AE20: 0 | AF20: 0
C21: Sub Total (A)(1) | F21: 10 | G21: =G7+G18+G19+G20 -> 6996198 | H21: =H7+H18+H19+H20 -> 0 | I21: =I7+I18+I19+I20 -> 0 | J21: =G21+H21+I21 -> 6996198 | K21: =(J21/('Table I'!G11-'Table I'!G9)*100) -> 67.792616 | L21: =L7+L18+L19+L20 -> 6996198 | M21: =M7+M18+M19+M20 -> 0 | N21: =L21+M21 -> 6996198 | O21: =(N21)/'Table I'!K11*100 -> 67.792616 | P21: =P7+P18+P19+P20 -> 0 | Q21: =Q7+Q18+Q19+Q20 -> 0 | R21: =R7+R18+R19+R20 -> 0 | S21: =S7+S18+S19+S20 -> 0 | T21: =J21+S21 -> 6996198 | U21: =(S21+J21)/(S29+'Table I'!G11-'Table I'!G9)*100 -> 67.792616 | V21: =V7+V18+V19+V20 -> 0 | W21: 0 | X21: =X7+X18+X19+X20 -> 0 | Y21: 0 | Z21: =Z7+Z18+Z19+Z20 -> 0 | AA21: =AA7+AA18+AA19+AA20 -> 0 | AB21: 0 | AC21: 0 | AD21: =X21+Z21+AB21 -> 0 | AE21: 0 | AF21: =AF7+AF18+AF19+AF20 -> 6996198
A22: 2 | C22: Foreign | J22: =G22+H22+I22 -> 0 | K22: =(J22/('Table I'!G11-'Table I'!G9)*100) -> 0 | N22: =L22+M22 -> 0 | O22: =(N22)/'Table I'!K11*100 -> 0 | T22: =J22+S22 -> 0 | U22: =(S22+J22)/(S29+'Table I'!G11-'Table I'!G9)*100 -> 0 | W22: 0 | Y22: 0 | AD22: =X22+Z22+AB22 -> 0
B23: (a) | C23: Individual/Non Resident Individual/Foreign Individual | F23: 0 | G23: 0 | H23: 0 | I23: 0 | J23: =G23+H23+I23 -> 0 | K23: =(J23/('Table I'!G11-'Table I'!G9)*100) -> 0 | L23: 0 | M23: 0 | N23: =L23+M23 -> 0 | O23: =(N23)/'Table I'!K11*100 -> 0 | P23: 0 | Q23: 0 | R23: 0 | S23: 0 | T23: =J23+S23 -> 0 | U23: =(S23+J23)/(S29+'Table I'!G11-'Table I'!G9)*100 -> 0 | V23: 0 | W23: 0 | X23: 0 | Y23: 0 | Z23: 0 | AA23: 0 | AB23: 0 | AC23: 0 | AD23: =X23+Z23+AB23 -> 0 | AE23: 0 | AF23: 0
B24: (b) | C24: Government | F24: 0 | G24: 0 | H24: 0 | I24: 0 | J24: =G24+H24+I24 -> 0 | K24: =(J24/('Table I'!G11-'Table I'!G9)*100) -> 0 | L24: 0 | M24: 0 | N24: =L24+M24 -> 0 | O24: =(N24)/'Table I'!K11*100 -> 0 | P24: 0 | Q24: 0 | R24: 0 | S24: 0 | T24: =J24+S24 -> 0 | U24: =(S24+J24)/(S29+'Table I'!G11-'Table I'!G9)*100 -> 0 | V24: 0 | W24: 0 | X24: 0 | Y24: 0 | Z24: 0 | AA24: 0 | AB24: 0 | AC24: 0 | AD24: =X24+Z24+AB24 -> 0 | AE24: 0 | AF24: 0
B25: (c) | C25: Institutions | F25: 0 | G25: 0 | H25: 0 | I25: 0 | J25: =G25+H25+I25 -> 0 | K25: =(J25/('Table I'!G11-'Table I'!G9)*100) -> 0 | L25: 0 | M25: 0 | N25: =L25+M25 -> 0 | O25: =(N25)/'Table I'!K11*100 -> 0 | P25: 0 | Q25: 0 | R25: 0 | S25: 0 | T25: =J25+S25 -> 0 | U25: =(S25+J25)/(S29+'Table I'!G11-'Table I'!G9)*100 -> 0 | V25: 0 | W25: 0 | X25: 0 | Y25: 0 | Z25: 0 | AA25: 0 | AB25: 0 | AC25: 0 | AD25: =X25+Z25+AB25 -> 0 | AE25: 0 | AF25: 0
B26: (d) | C26: Foreign Portfolio Investor | F26: 0 | G26: 0 | H26: 0 | I26: 0 | J26: =G26+H26+I26 -> 0 | K26: =(J26/('Table I'!G11-'Table I'!G9)*100) -> 0 | L26: 0 | M26: 0 | N26: =L26+M26 -> 0 | O26: =(N26)/'Table I'!K11*100 -> 0 | P26: 0 | Q26: 0 | R26: 0 | S26: 0 | T26: =J26+S26 -> 0 | U26: =(S26+J26)/(S29+'Table I'!G11-'Table I'!G9)*100 -> 0 | V26: 0 | W26: 0 | X26: 0 | Y26: 0 | Z26: 0 | AA26: 0 | AB26: 0 | AC26: 0 | AD26: =X26+Z26+AB26 -> 0 | AE26: 0 | AF26: 0
B27: (e) | C27: Any Other (Specify) | F27: 0 | G27: 0 | H27: 0 | I27: 0 | J27: =G27+H27+I27 -> 0 | K27: =(J27/('Table I'!G11-'Table I'!G9)*100) -> 0 | L27: 0 | M27: 0 | N27: =L27+M27 -> 0 | O27: =(N27)/'Table I'!K11*100 -> 0 | P27: 0 | Q27: 0 | R27: 0 | S27: 0 | T27: =J27+S27 -> 0 | U27: =(S27+J27)/(S29+'Table I'!G11-'Table I'!G9)*100 -> 0 | V27: 0 | W27: 0 | X27: 0 | Y27: 0 | Z27: 0 | AA27: 0 | AB27: 0 | AC27: 0 | AD27: =X27+Z27+AB27 -> 0 | AE27: 0 | AF27: 0
C28: Sub Total (A)(2) | F28: 0 | G28: =+G23+G24+G25+G26+G27 -> 0 | H28: =+H23+H24+H25+H26+H27 -> 0 | I28: =+I23+I24+I25+I26+I27 -> 0 | J28: =G28+H28+I28 -> 0 | K28: =(J28/('Table I'!G11-'Table I'!G9)*100) -> 0 | L28: =+L23+L24+L25+L26+L27 -> 0 | M28: =+M23+M24+M25+M26+M27 -> 0 | N28: =L28+M28 -> 0 | O28: =(N28)/'Table I'!K11*100 -> 0 | P28: =+P23+P24+P25+P26+P27 -> 0 | Q28: =+Q23+Q24+Q25+Q26+Q27 -> 0 | R28: =+R23+R24+R25+R26+R27 -> 0 | S28: =+S23+S24+S25+S26+S27 -> 0 | T28: =J28+S28 -> 0 | U28: =(S28+J28)/(S29+'Table I'!G11-'Table I'!G9)*100 -> 0 | V28: =+V23+V24+V25+V26+V27 -> 0 | W28: 0 | X28: =+X23+X24+X25+X26+X27 -> 0 | Y28: 0 | Z28: =+Z23+Z24+Z25+Z26+Z27 -> 0 | AA28: =+AA23+AA24+AA25+AA26+AA27 -> 0 | AB28: =+AB23+AB24+AB25+AB26+AB27 -> 0 | AC28: =+AC23+AC24+AC25+AC26+AC27 -> 0 | AD28: =X28+Z28+AB28 -> 0 | AE28: =+AE23+AE24+AE25+AE26+AE27 -> 0 | AF28: =+AF23+AF24+AF25+AF26+AF27 -> 0
C29: Total Shareholding of Promoter and Promoter Group (A)= (A)(1)+(A)(2) | F29: 10 | G29: =G21+G28 -> 6996198 | H29: =H21+H28 -> 0 | I29: =I21+I28 -> 0 | J29: =J21+J28 -> 6996198 | K29: =K21+K28 -> 67.792616 | L29: =L21+L28 -> 6996198 | M29: =M21+M28 -> 0 | N29: =N21+N28 -> 6996198 | ... AF29: =AF21+AF28 -> 6996198

Sheet Table III
A1: Table III - Statement showing shareholding pattern of the Public shareholder
C2: Category & Name of the Shareholders | D2: PAN | E2: Nos. of shareh older | F2: No. of fully paid up equity shares held | G2: Partly paid-up equity shares held | H2: Nos. of shares underlying Depository Receipts | I2: Total nos. shares held | J2: Sharehol ding % calculate d as per SCRR, 1957 As a % of (A+B+C2) | K2: Number of Voting Rights held in each class of securities | O2: No. Of Shares Underlying Outstanding convertible securities | P2: No. of Shares Underlying Outstanding Warrants | Q2: No. Of Outstanding ESOP Granted | R2: No. of Shares Underlying Outstanding convertible securities (including Warrants, ESOP etc) | S2: Total No of shares on fully diluted basis (including warrants, ESOP convertible securities etc. | T2: Total shareholding, as a % assuming full conversion of convertible securities (as a percentage of diluted share capital) | U2: Number of Locked in shares | W2: Number of Shares pledged or otherwise encumbered | Y2: Non-Disposal Undertaking | AA2: Other encumbrances, if any | AC2: Total Number of Shares encumbered | AE2: Number of equity shares held in dematerializ ed form | AF2: Sub-categorization of shares (XIX)
K3: No of Voting Rights | N3: Total as a % of Total Voting rights | U3: No. (a) | V3: As a % of total Shar es held (b) | W3: No. (Not applicable) (a) | X3: As a % of total shares held (Not applic able) (b) | Y3: No. (Not applicable) (a) | Z3: As a % of total shares held (Not applic able) (b) | AA3: No. (Not applicable) (a) | AB3: As a % of total shares held (Not applic able) (b) | AC3: No. (Not applicable) (a) | AD3: As a % of total shares held (Not applic able) (b) | AF3: Shareholding (No. of shares) under
K4: Class X | L4: Class Y | M4: Total | AF4: Sub_x0002_category (i) | AG4: Sub_x0002_category (ii) | AH4: ub_x0002_category (iii)
C5: (I) | D5: (II) | E5: (III) | F5: (IV) | G5: (V) | H5: (VI) | I5: (VII)=(IV)+(V)+(VI) | J5: (VIII) | K5: (IX) | R5: (X) | S5: (XI)=(VII)+(X) | T5: (XII) | U5: (XIII) | W5: (XIV) | Y5: (XV) | AA5: (XVI) | AC5: (XVII)=(XIV)+(XV)+(XVI) | AE5: (XVIII)
A6: 1 | C6: Institutions Domestic
B7: (a) | C7: Mutual Fund | E7: 0 | F7: 0 | G7: 0 | I7: =F7+G7+H7 -> 0 | J7: =(I7/('Table I'!G11-'Table I'!G9)*100) -> 0 | K7: 0 | M7: =K7+L7 -> 0 | N7: =(M7)/'Table I'!K11*100 -> 0 | S7: =SUM(I7+R7) -> 0 | T7: =(R7+I7)/(R58+'Table I'!G11-'Table I'!G9)*100 -> 0 | U7: 0 | V7: 0 | X7: 0 | Y7: 0 | Z7: 0 | AA7: 0 | AB7: 0 | AC7: =SUM(W7+Y7+AA7) -> 0 | AD7: 0 | AE7: 0
B8: (b) | C8: Venture Capital Funds | E8: 0 | F8: 0 | G8: 0 | I8: =F8+G8+H8 -> 0 | J8: =(I8/('Table I'!G11-'Table I'!G9)*100) -> 0 | K8: 0 | M8: =K8+L8 -> 0 | N8: =(M8)/'Table I'!K11*100 -> 0 | R8: 0 | S8: =SUM(I8+R8) -> 0 | T8: =(R8+I8)/(R58+'Table I'!G11-'Table I'!G9)*100 -> 0 | U8: 0 | V8: 0 | X8: 0 | Y8: 0 | Z8: 0 | AA8: 0 | AB8: 0 | AC8: =SUM(W8+Y8+AA8) -> 0 | AD8: 0 | AE8: 0
B9: (c) | C9: Alternate Investment Funds | E9: 0 | F9: 0 | G9: 0 | I9: =F9+G9+H9 -> 0 | J9: =(I9/('Table I'!G11-'Table I'!G9)*100) -> 0 | K9: 0 | M9: =K9+L9 -> 0 | N9: =(M9)/'Table I'!K11*100 -> 0 | R9: 0 | S9: =SUM(I9+R9) -> 0 | T9: =(R9+I9)/(R58+'Table I'!G11-'Table I'!G9)*100 -> 0 | U9: 0 | V9: 0 | X9: 0 | Y9: 0 | Z9: 0 | AA9: 0 | AB9: 0 | AC9: =SUM(W9+Y9+AA9) -> 0 | AD9: 0 | AE9: 0
B10: (d) | C10: Banks | E10: 0 | F10: 0 | G10: 0 | I10: =F10+G10+H10 -> 0 | J10: =(I10/('Table I'!G11-'Table I'!G9)*100) -> 0 | K10: 0 | M10: =K10+L10 -> 0 | N10: =(M10)/'Table I'!K11*100 -> 0 | R10: 0 | S10: =SUM(I10+R10) -> 0 | T10: =(R10+I10)/(R58+'Table I'!G11-'Table I'!G9)*100 -> 0 | U10: 0 | V10: 0 | X10: 0 | Y10: 0 | Z10: 0 | AA10: 0 | AB10: 0 | AC10: =SUM(W10+Y10+AA10) -> 0 | AD10: 0 | AE10: 0
B11: (e) | C11: Insurance Companies | E11: 0 | F11: 0 | G11: 0 | I11: =F11+G11+H11 -> 0 | J11: =(I11/('Table I'!G11-'Table I'!G9)*100) -> 0 | K11: 0 | M11: =K11+L11 -> 0 | N11: =(M11)/'Table I'!K11*100 -> 0 | R11: 0 | S11: =SUM(I11+R11) -> 0 | T11: =(R11+I11)/(R58+'Table I'!G11-'Table I'!G9)*100 -> 0 | U11: 0 | V11: 0 | X11: 0 | Y11: 0 | Z11: 0 | AA11: 0 | AB11: 0 | AC11: =SUM(W11+Y11+AA11) -> 0 | AD11: 0 | AE11: 0
B12: (f) | C12: Provident Fund/Pension Fund | E12: 0 | F12: 0 | G12: 0 | I12: =F12+G12+H12 -> 0 | J12: =(I12/('Table I'!G11-'Table I'!G9)*100) -> 0 | K12: 0 | M12: =K12+L12 -> 0 | N12: =(M12)/'Table I'!K11*100 -> 0 | R12: 0 | S12: =SUM(I12+R12) -> 0 | T12: =(R12+I12)/(R58+'Table I'!G11-'Table I'!G9)*100 -> 0 | U12: 0 | V12: 0 | X12: 0 | Y12: 0 | Z12: 0 | AA12: 0 | AB12: 0 | AC12: =SUM(W12+Y12+AA12) -> 0 | AD12: 0 | AE12: 0
B13: (g) | C13: Asset Reconstruction | E13: 0 | F13: 0 | G13: 0 | I13: =F13+G13+H13 -> 0 | J13: =(I13/('Table I'!G11-'Table I'!G9)*100) -> 0 | K13: 0 | M13: =K13+L13 -> 0 | N13: =(M13)/'Table I'!K11*100 -> 0 | R13: 0 | S13: =SUM(I13+R13) -> 0 | T13: =(R13+I13)/(R58+'Table I'!G11-'Table I'!G9)*100 -> 0 | U13: 0 | V13: 0 | X13: 0 | Y13: 0 | Z13: 0 | AA13: 0 | AB13: 0 | AC13: =SUM(W13+Y13+AA13) -> 0 | AD13: 0 | AE13: 0
B14: (h) | C14: Sovereign Wealth Fund | E14: 0 | F14: 0 | G14: 0 | I14: =F14+G14+H14 -> 0 | J14: =(I14/('Table I'!G11-'Table I'!G9)*100) -> 0 | K14: 0 | M14: =K14+L14 -> 0 | N14: =(M14)/'Table I'!K11*100 -> 0 | R14: 0 | S14: =SUM(I14+R14) -> 0 | T14: =(R14+I14)/(R58+'Table I'!G11-'Table I'!G9)*100 -> 0 | U14: 0 | V14: 0 | X14: 0 | Y14: 0 | Z14: 0 | AA14: 0 | AB14: 0 | AC14: =SUM(W14+Y14+AA14) -> 0 | AD14: 0 | AE14: 0
B15: (i) | C15: NBFCs Registered with RBI | E15: 0 | F15: 0 | G15: 0 | I15: =F15+G15+H15 -> 0 | J15: =(I15/('Table I'!G11-'Table I'!G9)*100) -> 0 | K15: 0 | M15: =K15+L15 -> 0 | N15: =(M15)/'Table I'!K11*100 -> 0 | R15: 0 | S15: =SUM(I15+R15) -> 0 | T15: =(R15+I15)/(R58+'Table I'!G11-'Table I'!G9)*100 -> 0 | U15: 0 | V15: 0 | X15: 0 | Y15: 0 | Z15: 0 | AA15: 0 | AB15: 0 | AC15: =SUM(W15+Y15+AA15) -> 0 | AD15: 0 | AE15: 0
B16: (j) | C16: Other Financial Institutions | E16: 0 | F16: 0 | G16: 0 | I16: =F16+G16+H16 -> 0 | J16: =(I16/('Table I'!G11-'Table I'!G9)*100) -> 0 | K16: 0 | M16: =K16+L16 -> 0 | N16: =(M16)/'Table I'!K11*100 -> 0 | R16: 0 | S16: =SUM(I16+R16) -> 0 | T16: =(R16+I16)/(R58+'Table I'!G11-'Table I'!G9)*100 -> 0 | U16: 0 | V16: 0 | X16: 0 | Y16: 0 | Z16: 0 | AA16: 0 | AB16: 0 | AC16: =SUM(W16+Y16+AA16) -> 0 | AD16: 0 | AE16: 0
B17: (k) | C17: Any Other Specify | E17: 0 | F17: 0 | G17: 0 | I17: =F17+G17+H17 -> 0 | J17: =(I17/('Table I'!G11-'Table I'!G9)*100) -> 0 | K17: 0 | M17: =K17+L17 -> 0 | N17: =(M17)/'Table I'!K11*100 -> 0 | R17: 0 | S17: =SUM(I17+R17) -> 0 | T17: =(R17+I17)/(R58+'Table I'!G11-'Table I'!G9)*100 -> 0 | U17: 0 | V17: 0 | X17: 0 | Y17: 0 | Z17: 0 | AA17: 0 | AB17: 0 | AC17: =SUM(W17+Y17+AA17) -> 0 | AD17: 0 | AE17: 0
C18: Sub Total (B)(1) | E18: =E7+E8+E9+E10+E11+E12+E13+E14+E15+E16+E17 -> 0 | F18: =F7+F8+F9+F10+F11+F12+F13+F14+F15+F16+F17 -> 0 | G18: =G7+G8+G9+G10+G11+G12+G13+G14+G15+G16+G17 -> 0 | H18: =H7+H8+H9+H10+H11+H12+H13+H14+H15+H16+H17 -> 0 | I18: =F18+G18+H18 -> 0 | J18: =(I18/('Table I'!G11-'Table I'!G9)*100) -> 0 | K18: =K7+K8+K9+K10+K11+K12+K13+K14+K15+K16+K17 -> 0 | L18: =L7+L8+L9+L10+L11+L12+L13+L14+L15+L16+L17 -> 0 | M18: =K18+L18 -> 0 | N18: =(M18)/'Table I'!K11*100 -> 0 | O18: =O7+O8+O9+O10+O11+O12+O13+O14+O15+O16+O17 -> 0 | P18: =P7+P8+P9+P10+P11+P12+P13+P14+P15+P16+P17 -> 0 | Q18: =Q7+Q8+Q9+Q10+Q11+Q12+Q13+Q14+Q15+Q16+Q17 -> 0 | R18: =R7+R8+R9+R10+R11+R12+R13+R14+R15+R16+R17 -> 0 | S18: =SUM(I18+R18) -> 0 | T18: =(R18+I18)/(R58+'Table I'!G11-'Table I'!G9)*100 -> 0 | U18: =U7+U8+U9+U10+U11+U12+U13+U14+U15+U16+U17 -> 0 | V18: 0 | W18: =W7+W8+W9+W10+W11+W12+W13+W14+W15+W16+W17 -> 0 | X18: 0 | Y18: =Y7+Y8+Y9+Y10+Y11+Y12+Y13+Y14+Y15+Y16+Y17 -> 0 | Z18: 0 | AA18: =AA7+AA8+AA9+AA10+AA11+AA12+AA13+AA14+AA15+AA16+AA17 -> 0 | AB18: 0 | AC18: =AC7+AC8+AC9+AC10+AC11+AC12+AC13+AC14+AC15+AC16+AC17 -> 0 | AD18: 0 | AE18: =AE7+AE8+AE9+AE10+AE11+AE12+AE13+AE14+AE15+AE16+AE17 -> 0
A19: 2 | C19: Institutions Foreign | I19: =F19+G19+H19 -> 0 | J19: =(I19/('Table I'!G11-'Table I'!G9)*100) -> 0 | M19: =K19+L19 -> 0 | N19: =(M19)/'Table I'!K11*100 -> 0 | S19: =SUM(I19+R19) -> 0 | T19: =(R19+I19)/(R58+'Table I'!G11-'Table I'!G9)*100 -> 0 | V19: 0 | X19: 0 | Z19: 0 | AB19: 0 | AD19: 0
B20: (a) | C20: Foreign Direct Investmnet | E20: 0 | F20: 0 | G20: 0 | I20: =F20+G20+H20 -> 0 | J20: =(I20/('Table I'!G11-'Table I'!G9)*100) -> 0 | K20: 0 | M20: =K20+L20 -> 0 | N20: =(M20)/'Table I'!K11*100 -> 0 | R20: 0 | S20: =SUM(I20+R20) -> 0 | T20: =(R20+I20)/(R58+'Table I'!G11-'Table I'!G9)*100 -> 0 | U20: 0 | V20: 0 | X20: 0 | Y20: 0 | Z20: 0 | AA20: 0 | AB20: 0 | AC20: =SUM(W20+Y20+AA20) -> 0 | AD20: 0 | AE20: 0
B21: (b) | C21: Foreign Venture Capital Investors | E21: 0 | F21: 0 | G21: 0 | I21: =F21+G21+H21 -> 0 | J21: =(I21/('Table I'!G11-'Table I'!G9)*100) -> 0 | K21: 0 | M21: =K21+L21 -> 0 | N21: =(M21)/'Table I'!K11*100 -> 0 | R21: 0 | S21: =SUM(I21+R21) -> 0 | T21: =(R21+I21)/(R58+'Table I'!G11-'Table I'!G9)*100 -> 0 | U21: 0 | V21: 0 | X21: 0 | Y21: 0 | Z21: 0 | AA21: 0 | AB21: 0 | AC21: =SUM(W21+Y21+AA21) -> 0 | AD21: 0 | AE21: 0
B22: (c) | C22: Sovereign Wealth Fund | E22: 0 | F22: 0 | G22: 0 | I22: =F22+G22+H22 -> 0 | J22: =(I22/('Table I'!G11-'Table I'!G9)*100) -> 0 | K22: 0 | M22: =K22+L22 -> 0 | N22: =(M22)/'Table I'!K11*100 -> 0 | R22: 0 | S22: =SUM(I22+R22) -> 0 | T22: =(R22+I22)/(R58+'Table I'!G11-'Table I'!G9)*100 -> 0 | U22: 0 | V22: 0 | X22: 0 | Y22: 0 | Z22: 0 | AA22: 0 | AB22: 0 | AC22: =SUM(W22+Y22+AA22) -> 0 | AD22: 0 | AE22: 0
B23: (d) | C23: Foreign Portfolio Investors Category I | E23: 1 | F23: 46059 | G23: 0 | I23: =F23+G23+H23 -> 46059 | J23: =(I23/('Table I'!G11-'Table I'!G9)*100) -> 0.44630814 | K23: 46059 | M23: =K23+L23 -> 46059 | N23: =(M23)/'Table I'!K11*100 -> 0.44630814 | R23: 0 | S23: =SUM(I23+R23) -> 46059 | T23: =(R23+I23)/(R58+'Table I'!G11-'Table I'!G9)*100 -> 0.44630814 | U23: 0 | V23: 0 | X23: 0 | Y23: 0 | Z23: 0 | AA23: 0 | AB23: 0 | AC23: =SUM(W23+Y23+AA23) -> 0 | AD23: 0 | AE23: 46059
B24: (e) | C24: Foreign Portfolio Investors Category II | E24: 0 | F24: 0 | G24: 0 | I24: =F24+G24+H24 -> 0 | J24: =(I24/('Table I'!G11-'Table I'!G9)*100) -> 0 | K24: 0 | M24: =K24+L24 -> 0 | N24: =(M24)/'Table I'!K11*100 -> 0 | R24: 0 | S24: =SUM(I24+R24) -> 0 | T24: =(R24+I24)/(R58+'Table I'!G11-'Table I'!G9)*100 -> 0 | U24: 0 | V24: 0 | X24: 0 | Y24: 0 | Z24: 0 | AA24: 0 | AB24: 0 | AC24: =SUM(W24+Y24+AA24) -> 0 | AD24: 0 | AE24: 0
B25: (f) | C25: Overseas Depositories (holding DRs) (balancing figure) | E25: 0 | F25: 0 | G25: 0 | I25: =F25+G25+H25 -> 0 | J25: =(I25/('Table I'!G11-'Table I'!G9)*100) -> 0 | K25: 0 | M25: =K25+L25 -> 0 | N25: =(M25)/'Table I'!K11*100 -> 0 | R25: 0 | S25: =SUM(I25+R25) -> 0 | T25: =(R25+I25)/(R58+'Table I'!G11-'Table I'!G9)*100 -> 0 | U25: 0 | V25: 0 | X25: 0 | Y25: 0 | Z25: 0 | AA25: 0 | AB25: 0 | AC25: =SUM(W25+Y25+AA25) -> 0 | AD25: 0 | AE25: 0
B26: (g) | C26: Any Other (specify) | E26: 0 | F26: 0 | G26: 0 | I26: =F26+G26+H26 -> 0 | J26: =(I26/('Table I'!G11-'Table I'!G9)*100) -> 0 | K26: 0 | M26: =K26+L26 -> 0 | N26: =(M26)/'Table I'!K11*100 -> 0 | R26: 0 | S26: =SUM(I26+R26) -> 0 | T26: =(R26+I26)/(R58+'Table I'!G11-'Table I'!G9)*100 -> 0 | U26: 0 | V26: 0 | X26: 0 | Y26: 0 | Z26: 0 | AA26: 0 | AB26: 0 | AC26: =SUM(W26+Y26+AA26) -> 0 | AD26: 0 | AE26: 0
C27: Sub Total (B)(2) | E27: =+E20+E21+E22+E23+E24+E25+E26 -> 1 | F27: =+F20+F21+F22+F23+F24+F25+F26 -> 46059 | G27: =+G20+G21+G22+G23+G24+G25+G26 -> 0 | H27: =+H20+H21+H22+H23+H24+H25+H26 -> 0 | I27: =F27+G27+H27 -> 46059 | J27: =(I27/('Table I'!G11-'Table I'!G9)*100) -> 0.44630814 | K27: =+K20+K21+K22+K23+K24+K25+K26 -> 46059 | L27: =+L20+L21+L22+L23+L24+L25+L26 -> 0 | M27: =K27+L27 -> 46059 | N27: =(M27)/'Table I'!K11*100 -> 0.44630814 | O27: =+O20+O21+O22+O23+O24+O25+O26 -> 0 | P27: =+P20+P21+P22+P23+P24+P25+P26 -> 0 | Q27: =+Q20+Q21+Q22+Q23+Q24+Q25+Q26 -> 0 | R27: =+R20+R21+R22+R23+R24+R25+R26 -> 0 | S27: =SUM(I27+R27) -> 46059 | T27: =(R27+I27)/(R58+'Table I'!G11-'Table I'!G9)*100 -> 0.44630814 | U27: =+U20+U21+U22+U23+U24+U25+U26 -> 0 | V27: 0 | W27: =+W20+W21+W22+W23+W24+W25+W26 -> 0 | X27: 0 | Y27: =+Y20+Y21+Y22+Y23+Y24+Y25+Y26 -> 0 | Z27: 0 | AA27: =+AA20+AA21+AA22+AA23+AA24+AA25+AA26 -> 0 | AB27: 0 | AC27: =+AC20+AC21+AC22+AC23+AC24+AC25+AC26 -> 0 | AD27: 0 | AE27: =+AE20+AE21+AE22+AE23+AE24+AE25+AE26 -> 46059
A28: 3 | C28: Central Government/State Government | I28: =F28+G28+H28 -> 0 | J28: =(I28/('Table I'!G11-'Table I'!G9)*100) -> 0 | M28: =K28+L28 -> 0 | N28: =(M28)/'Table I'!K11*100 -> 0 | S28: =SUM(I28+R28) -> 0 | T28: =(R28+I28)/(R58+'Table I'!G11-'Table I'!G9)*100 -> 0 | V28: 0 | X28: 0 | Z28: 0 | AB28: 0 | AD28: 0
B29: a | C29: Central Government/President of India | E29: 0 | F29: 0 | G29: 0 | I29: =F29+G29+H29 -> 0 | J29: =(I29/('Table I'!G11-'Table I'!G9)*100) -> 0 | K29: 0 | M29: =K29+L29 -> 0 | N29: =(M29)/'Table I'!K11*100 -> 0 | R29: 0 | S29: =SUM(I29+R29) -> 0 | T29: =(R29+I29)/(R58+'Table I'!G11-'Table I'!G9)*100 -> 0 | U29: 0 | V29: 0 | X29: 0 | Y29: 0 | Z29: 0 | AA29: 0 | AB29: 0 | AC29: =SUM(W29+Y29+AA29) -> 0 | AD29: 0 | AE29: 0
B30: b | C30: State Government/Governor | E30: 0 | F30: 0 | G30: 0 | I30: =F30+G30+H30 -> 0 | J30: =(I30/('Table I'!G11-'Table I'!G9)*100) -> 0 | K30: 0 | M30: =K30+L30 -> 0 | N30: =(M30)/'Table I'!K11*100 -> 0 | R30: 0 | S30: =SUM(I30+R30) -> 0 | T30: =(R30+I30)/(R58+'Table I'!G11-'Table I'!G9)*100 -> 0 | U30: 0 | V30: 0 | X30: 0 | Y30: 0 | Z30: 0 | AA30: 0 | AB30: 0 | AC30: =SUM(W30+Y30+AA30) -> 0 | AD30: 0 | AE30: 0
B31: c | C31: State Government/Governor | E31: 0 | F31: 0 | G31: 0 | I31: =F31+G31+H31 -> 0 | J31: =(I31/('Table I'!G11-'Table I'!G9)*100) -> 0 | K31: 0 | M31: =K31+L31 -> 0 | N31: =(M31)/'Table I'!K11*100 -> 0 | R31: 0 | S31: =SUM(I31+R31) -> 0 | T31: =(R31+I31)/(R58+'Table I'!G11-'Table I'!G9)*100 -> 0 | U31: 0 | V31: 0 | X31: 0 | Y31: 0 | Z31: 0 | AA31: 0 | AB31: 0 | AC31: =SUM(W31+Y31+AA31) -> 0 | AD31: 0 | AE31: 0
C32: Sub Total (B)(3) | E32: =+E29+E30+E31 -> 0 | F32: =+F29+F30+F31 -> 0 | G32: =+G29+G30+G31 -> 0 | H32: =+H29+H30+H31 -> 0 | I32: =F32+G32+H32 -> 0 | J32: =(I32/('Table I'!G11-'Table I'!G9)*100) -> 0 | K32: =+K29+K30+K31 -> 0 | L32: =+L29+L30+L31 -> 0 | M32: =K32+L32 -> 0 | N32: =(M32)/'Table I'!K11*100 -> 0 | O32: =+O29+O30+O31 -> 0 | P32: =+P29+P30+P31 -> 0 | Q32: =+Q29+Q30+Q31 -> 0 | R32: =+R29+R30+R31 -> 0 | S32: =SUM(I32+R32) -> 0 | T32: =(R32+I32)/(R58+'Table I'!G11-'Table I'!G9)*100 -> 0 | U32: =+U29+U30+U31 -> 0 | V32: 0 | W32: =+W29+W30+W31 -> 0 | X32: 0 | Y32: =+Y29+Y30+Y31 -> 0 | Z32: 0 | AA32: =+AA29+AA30+AA31 -> 0 | AB32: 0 | AC32: =+AC29+AC30+AC31 -> 0 | AD32: 0 | AE32: =+AE29+AE30+AE31 -> 0
A33: 4 | C33: Non-Institutions | I33: =F33+G33+H33 -> 0 | J33: =(I33/('Table I'!G11-'Table I'!G9)*100) -> 0 | M33: =K33+L33 -> 0 | N33: =(M33)/'Table I'!K11*100 -> 0 | S33: =SUM(I33+R33) -> 0 | T33: =(R33+I33)/(R58+'Table I'!G11-'Table I'!G9)*100 -> 0 | V33: 0 | X33: 0 | Z33: 0 | AB33: 0 | AD33: 0
B34: (a) | C34: Associate companies / Subsidiaries | E34: 0 | F34: 0 | G34: 0 | I34: =F34+G34+H34 -> 0 | J34: =(I34/('Table I'!G11-'Table I'!G9)*100) -> 0 | K34: 0 | M34: =K34+L34 -> 0 | N34: =(M34)/'Table I'!K11*100 -> 0 | R34: 0 | S34: =SUM(I34+R34) -> 0 | T34: =(R34+I34)/(R58+'Table I'!G11-'Table I'!G9)*100 -> 0 | U34: 0 | V34: 0 | X34: 0 | Y34: 0 | Z34: 0 | AA34: 0 | AB34: 0 | AC34: =SUM(W34+Y34+AA34) -> 0 | AD34: 0 | AE34: 0
B35: (b) | C35: Directors and their relatives (excluding independent directors and nominee directors) | E35: 0 | F35: 0 | G35: 0 | I35: =F35+G35+H35 -> 0 | J35: =(I35/('Table I'!G11-'Table I'!G9)*100) -> 0 | K35: 0 | M35: =K35+L35 -> 0 | N35: =(M35)/'Table I'!K11*100 -> 0 | R35: 0 | S35: =SUM(I35+R35) -> 0 | T35: =(R35+I35)/(R58+'Table I'!G11-'Table I'!G9)*100 -> 0 | U35: 0 | V35: 0 | X35: 0 | Y35: 0 | Z35: 0 | AA35: 0 | AB35: 0 | AC35: =SUM(W35+Y35+AA35) -> 0 | AD35: 0 | AE35: 0
B36: (c) | C36: Key Managerial Personnel | E36: 0 | F36: 0 | G36: 0 | I36: =F36+G36+H36 -> 0 | J36: =(I36/('Table I'!G11-'Table I'!G9)*100) -> 0 | K36: 0 | M36: =K36+L36 -> 0 | N36: =(M36)/'Table I'!K11*100 -> 0 | R36: 0 | S36: =SUM(I36+R36) -> 0 | T36: =(R36+I36)/(R58+'Table I'!G11-'Table I'!G9)*100 -> 0 | U36: 0 | V36: 0 | X36: 0 | Y36: 0 | Z36: 0 | AA36: 0 | AB36: 0 | AC36: =SUM(W36+Y36+AA36) -> 0 | AD36: 0 | AE36: 0
B37: (d) | C37: Relatives of promoters (other than `immediate relatives' of promoters disclosed under `Promoter and Promoter Group' category) | E37: 0 | F37: 0 | G37: 0 | I37: =F37+G37+H37 -> 0 | J37: =(I37/('Table I'!G11-'Table I'!G9)*100) -> 0 | K37: 0 | M37: =K37+L37 -> 0 | N37: =(M37)/'Table I'!K11*100 -> 0 | R37: 0 | S37: =SUM(I37+R37) -> 0 | T37: =(R37+I37)/(R58+'Table I'!G11-'Table I'!G9)*100 -> 0 | U37: 0 | V37: 0 | X37: 0 | Y37: 0 | Z37: 0 | AA37: 0 | AB37: 0 | AC37: =SUM(W37+Y37+AA37) -> 0 | AD37: 0 | AE37: 0
B38: (e) | C38: Trusts where any person belonging to 'Promoter and Promoter Group' category is 'trustee', 'beneficiary', or 'author of the trust' | E38: 0 | F38: 0 | G38: 0 | I38: =F38+G38+H38 -> 0 | J38: =(I38/('Table I'!G11-'Table I'!G9)*100) -> 0 | K38: 0 | M38: =K38+L38 -> 0 | N38: =(M38)/'Table I'!K11*100 -> 0 | R38: 0 | S38: =SUM(I38+R38) -> 0 | T38: =(R38+I38)/(R58+'Table I'!G11-'Table I'!G9)*100 -> 0 | U38: 0 | V38: 0 | X38: 0 | Y38: 0 | Z38: 0 | AA38: 0 | AB38: 0 | AC38: =SUM(W38+Y38+AA38) -> 0 | AD38: 0 | AE38: 0
B39: (f) | C39: Investor Education and Protection Fund (IEPF) | E39: 0 | F39: 0 | G39: 0 | I39: =F39+G39+H39 -> 0 | J39: =(I39/('Table I'!G11-'Table I'!G9)*100) -> 0 | K39: 0 | M39: =K39+L39 -> 0 | N39: =(M39)/'Table I'!K11*100 -> 0 | R39: 0 | S39: =SUM(I39+R39) -> 0 | T39: =(R39+I39)/(R58+'Table I'!G11-'Table I'!G9)*100 -> 0 | U39: 0 | V39: 0 | X39: 0 | Y39: 0 | Z39: 0 | AA39: 0 | AB39: 0 | AC39: =SUM(W39+Y39+AA39) -> 0 | AD39: 0 | AE39: 0
B40: (g) | C40: Individual Shareholders holding Nominal Share Capital Up to 2 Lacs | E40: 5206 | F40: 1544426 | G40: 0 | I40: =F40+G40+H40 -> 1544426 | J40: =(I40/('Table I'!G11-'Table I'!G9)*100) -> 14.965368 | K40: 1544426 | M40: =K40+L40 -> 1544426 | N40: =(M40)/'Table I'!K11*100 -> 14.965368 | R40: 0 | S40: =SUM(I40+R40) -> 1544426 | T40: =(R40+I40)/(R58+'Table I'!G11-'Table I'!G9)*100 -> 14.965368 | U40: 0 | V40: 0 | X40: 0 | Y40: 0 | Z40: 0 | AA40: 0 | AB40: 0 | AC40: =SUM(W40+Y40+AA40) -> 0 | AD40: 0 | AE40: 1544425
...

Sheet Table IV
A1: Table IV - Statement showing shareholding pattern of the Non Promoter- Non Public shareholder
B2: Category & Name of the Shareholders | C2: PAN | D2: No. of shareholder | E2: No. of fully paid up equity shares held | F2: Partly paid-up equity shares held | G2: Nos. of shares underlying Depository Receipts | H2: Total no. shares held | I2: Sharehol ding % calculate d as per SCRR, 1957 As a % of (A+B+C2) | J2: Number of Voting Rights held in each class of securities | N2: No. Of Shares Underlying Outstanding convertible securities | O2: No. of Shares Underlying Outstanding Warrants | P2: No. Of Outstanding ESOP Granted | Q2: No. of Shares Underlying Outstanding convertible securities (including Warrants, ESOP etc.) | R2: Total no. of shares on fully diluted basis (including warrants, ESOP Convertible Securities etc.) | S2: Total shareholding , as a % assuming full conversion of convertible securities (as a percentage of diluted share capital) | T2: Number of Locked in shares | V2: Number of Shares pledged or otherwise encumbered | X2: Non Disposal Undertaking | Z2: Other encumbrances if any | AB2: Total Number of Shares encumbered | AD2: Number of equity shares held in dematerializ ed form (Not Applicable)
J3: No of Voting Rights | M3: Total as a % of Total Voting rights | T3: No. | U3: As a % of total Shar es held | V3: No. (Not applicable) | W3: As a % of total share s held (Not applic able) | X3: No. (Not applicable) | Y3: As a % of total share s held (Not applic able) | Z3: No. (Not applicable) | AA3: As a % of total share s held (Not applic able) | AB3: No. (Not applicable) | AC3: As a % of total share s held (Not applic able)
J4: Class X | K4: Class Y | L4: Total
B5: (I) | C5: (II) | D5: (III) | E5: (IV) | F5: (V) | G5: (VI) | H5: (VII)=(IV)+(V)+(VI) | I5: (VIII) | J5: (IX) | Q5: (X) | R5: (XI)=(VII)+(X) | S5: (XII) | T5: (XIII) | V5: (XIV) | X5: (XV) | Z5: (XVI) | AB5: (XVII) | AD5: (XVIII)
A6: C1 | B6: Custodian/DR Holder | D6: 0 | E6: =SUM(E7:E7) -> 0 | F6: =SUM(F7:F7) -> 0 | G6: =SUM(G7:G7) -> 0 | H6: =E6+F6+G6 -> 0 | I6: =(H6/('Table I'!G11-'Table I'!G9)*100) -> 0 | J6: =SUM(J7:J7) -> 0 | K6: =SUM(K7:K7) -> 0 | L6: =J6+K6 -> 0 | M6: =(L6)/'Table I'!K11*100 -> 0 | N6: =SUM(N7:N7) -> 0 | O6: =(N6+H6)/(N8+'Table I'!G11-'Table I'!G9)*100 -> 0 | P6: =SUM(P7:P7) -> 0 | Q6: =SUM(Q7:Q7) -> 0 | R6: =(Q6)/'Table I'!G11*100 -> 0 | S6: =SUM(S7:S7) -> 0 | T6: =(S6)/'Table I'!G11*100 -> 0 | U6: =SUM(U7:U7) -> 0 | V6: =SUM(V7:V7) -> 0 | W6: =SUM(W7:W7) -> 0 | X6: =SUM(X7:X7) -> 0 | Y6: =SUM(Y7:Y7) -> 0 | Z6: =SUM(Z7:Z7) -> 0 | AA6: =SUM(AA7:AA7) -> 0
A7: C2 | B7: Employees Benefit Trust (Under SEBI (Share Based Employee Benefit Regulation 2014) | D7: 0 | H7: =E7+F7+G7 -> 0 | I7: =(H7/('Table I'!G11-'Table I'!G9)*100) -> 0 | L7: =J7+K7 -> 0 | M7: =(L7)/'Table I'!K11*100 -> 0 | O7: =(N7+H7)/(N8+'Table I'!G11-'Table I'!G9)*100 -> 0 | R7: =(Q7)/'Table I'!G11*100 -> 0 | T7: =(S7)/'Table I'!G11*100 -> 0
B8: Total Non Promoter Non Public Shareholding (C)= (C)(1)+(C)(2) | D8: 0 | E8: =E6+E7 -> 0 | F8: =F6+F7 -> 0 | G8: =G6+G7 -> 0 | H8: =H6+H7 -> 0 | I8: =I6+I7 -> 0 | J8: =J6+J7 -> 0 | K8: =K6+K7 -> 0 | L8: =L6+L7 -> 0 | ... AA8: =AA6+AA7 -> 0

Sheet Table V
A1: Table V - Statement Showing Details of Significant beneficial Owners (SBOs)
A2: Sr .No. | B2: Details of the SBO | E2: Details of the Registered Owner | H2: Details of Holding/ exercise of right of the SBO in the reporting company, Whether direct or Indirect | K2: Date of creation / acquisition of significant beneficial interest
B3: ( I ) | E3: ( II ) | H3: ( III ) | K3: ( IV )
B4: Name | C4: PAN/Passport No. in case of a foreign national | D4: Nationality | E4: Name | F4: PAN/Passport No. in case of a foreign national | G4: Nationality | H4: Whether by Virtue of :
A5: 0 | B5: 0 | C5: 0 | D5: 0 | E5: 0 | F5: 0 | G5: 0 | H5: Shares | I5: 0 | J5: % | K5: 0
H6: Voting Righrs | J6: %
H7: Rights of distributable dividend or any other distribution | J7: %
H8: Exercise of control
H9: Exercise of significant influence
A17: * In case the nature of the holding/ exercise of the right of a SBO falls under multiple categories specified under (a) to (e) under Column III, multiple rows for the same SBO shall be inserted ....accordingly for each of the categories.
A18: * This column shall have the details as specified by the listed entity under Form No. BEN-2 as submitted to the Registrar.
A20: $ PAN / Passport number not to be disclosed on the website of the Stock Exchange

Sheet Table VI
A1: Annexure B
A2: Table VI - Statement showing foreign ownership limits
B3: Board approved limits | C3: Limits utilized
A4: As on shareholding date
A5: As on the end of previous 1st quarter
A6: As on the end of previous 2nd quarter
A7: As on the end of previous 3rd quarter
A8: As on the end of previous 4th quarter

Sheet Bodies_Corporate
A1: (l) | B1: Bodies Corporates
A2: Sr.No | B2: Pan Number | C2: Name of Shareholders | D2: FP -Shares | E2: PP- Shares | F2: Total Shares | G2: %age | H2: Nom.Value | I2: Debentures | J2: Code | K2: Category
A3: 1 | B3: AADFY0336Q | C3: ALTIZEN VENTURES | D3: 69973 | E3: 0 | F3: 69973 | G3: 0.678 | H3: 699730 | I3: 0 | J3: B4L | K3: LTD - BODIES CORPORATE -LIMITED LIABLITY PARTNERSHIP
A4: 2 | B4: AAGCB0134P | C4: BEELINE BROKING LIMITED | D4: 50400 | E4: 0 | F4: 50400 | G4: 0.4884 | H4: 504000 | I4: 0 | J4: B4L | K4: LTD - BODIES CORPORATE-STOCK BROKER PROPRIETORY
A5: 3 | B5: AACCL7130P | C5: L7 HITECH PRIVATE LIMITED | D5: 39378 | E5: 0 | F5: 39378 | G5: 0.3816 | H5: 393780 | I5: 0 | J5: B4L | K5: LTD - BODIES CORPORATE-DOMESTIC
A6: 4 | B6: AACCL5526H | C6: L7 SECURITIES PRIVATE LIMITED | D6: 39000 | E6: 0 | F6: 39000 | G6: 0.3779 | H6: 390000 | I6: 0 | J6: B4L | K6: LTD - BODIES CORPORATE-DOMESTIC
A7: 5 | B7: AALCT1263A | C7: TRADE PULSE BROKING PRIVATE LIMITED | D7: 25000 | E7: 0 | F7: 25000 | G7: 0.2422 | H7: 250000 | I7: 0 | J7: B4L | K7: LTD - BODIES CORPORATE -CM/TM PROPRIETORY ACCOUNT
A8: 6 | B8: ABEFP6259R | C8: PARUMAL CONSULTANTS LLP | D8: 10000 | E8: 0 | F8: 10000 | G8: 0.0969 | H8: 100000 | I8: 0 | J8: B4L | K8: LTD - BODIES CORPORATE -LIMITED LIABLITY PARTNERSHIP
A9: 7 | B9: AAACN1797L | C9: NATIONAL STOCK EXCHANGE OF INDIA LIMITED ACCOUNT KARVY STOCK | D9: 8000 | E9: 0 | F9: 8000 | G9: 0.0775 | H9: 80000 | I9: 0 | J9: B4L | K9: LTD - BODIES CORPORATE-DOMESTIC
A10: 8 | B10: AAECO7774N | C10: ONVO AQUARRIUS PRIVATE LIMITED | D10: 7697 | E10: 0 | F10: 7697 | G10: 0.0746 | H10: 76970 | I10: 0 | J10: B4L | K10: LTD - BODIES CORPORATE-DOMESTIC
A11: 9 | B11: ABGFM6387D | C11: MATHISYS QUANTCAP LLP | D11: 5363 | E11: 0 | F11: 5363 | G11: 0.052 | H11: 53630 | I11: 0 | J11: B4L | K11: LTD - BODIES CORPORATE-STOCK BROKER PROPRIETORY
A12: 10 | B12: AABCM7561Q | C12: MANU VYAPAR (P) LTD | D12: 4000 | E12: 0 | F12: 4000 | G12: 0.0388 | H12: 40000 | I12: 0 | J12: B4L | K12: LTD - BODIES CORPORATE-DOMESTIC
A13: 11 | B13: AAACU4925F | C13: USUAL LEASING & FINANCE PRIVATE LIMITED | D13: 2866 | E13: 0 | F13: 2866 | G13: 0.0278 | H13: 28660 | I13: 0 | J13: B4L | K13: LTD - BODIES CORPORATE-DOMESTIC
A14: 12 | B14: AACCS2519P | C14: LOANACHARYA CONSULTANTS | D14: 2400 | E14: 0 | F14: 2400 | G14: 0.0233 | H14: 24000 | I14: 0 | J14: B4L | K14: LTD - BODIES CORPORATE-DOMESTIC
... A33: 31 | B33: AAICK8194L | C33: KLAPSON INN PRIVATE | D33: 1 | E33: 0 | F33: 1 | G33: 0 | H33: 10 | I33: 0 | J33: B4L | K33: LTD - BODIES CORPORATE-DOMESTIC
B34: Total | F34: 273681 | G34: 2.6519 | H34: 2736810 | I34: 0

Sheet NRI
A1: (i) | B1: Non Resident Indian
A2: Sr.No | B2: Pan Number | C2: Name of Shareholders | D2: FP -Shares | E2: PP- Shares | F2: Total Shares | G2: %age | H2: Nom.Value | I2: Debentures | J2: Code | K2: Category
A3: 1 | B3: ATTPK1044J | C3: RAMESH KUMAR | D3: 4000 | E3: 0 | F3: 4000 | G3: 0.0388 | H3: 40000 | I3: 0 | J3: B4I | K3: NRI - NRI REPARTIABLE
A4: 2 | B4: AUUPJ3027G | C4: SONA JOHN | D4: 3500 | E4: 0 | F4: 3500 | G4: 0.0339 | H4: 35000 | I4: 0 | J4: B4I | K4: NRI - NRI REPARTIABLE
A5: 3 | B5: AROPK8334Q | C5: CHIRAG MANOJ KOTHARI | D5: 3000 | E5: 0 | F5: 3000 | G5: 0.0291 | H5: 30000 | I5: 0 | J5: B4I | K5: NRN - NRI NON REPARTIABLE
A6: 4 | B6: AOQPM0124B | C6: ANIL PERMOD MALIK | D6: 2500 | E6: 0 | F6: 2500 | G6: 0.0242 | H6: 25000 | I6: 0 | J6: B4I | K6: NRI - NRI REPARTIABLE
A7: 5 | B7: ADDPN8570G | C7: SHABANA NAKHOODA | D7: 2400 | E7: 0 | F7: 2400 | G7: 0.0233 | H7: 24000 | I7: 0 | J7: B4I | K7: NRN - NRI NON REPARTIABLE
A8: 6 | B8: AROPK8335R | C8: JAY MANOJ KOTHARI | D8: 2362 | E8: 0 | F8: 2362 | G8: 0.0229 | H8: 23620 | I8: 0 | J8: B4I | K8: NRN - NRI NON REPARTIABLE
A9: 7 | B9: AFZPJ9949M | C9: HARIHARAN JAYARAMAN | D9: 1884 | E9: 0 | F9: 1884 | G9: 0.0183 | H9: 18840 | I9: 0 | J9: B4I | K9: NRI - NRI REPARTIABLE
A10: 8 | B10: AGUPK5870C | C10: RANJITH KIZHAKKETHIL | D10: 1500 | E10: 0 | F10: 1500 | G10: 0.0145 | H10: 15000 | I10: 0 | J10: B4I | K10: NRN - NRI NON REPARTIABLE
A11: 9 | B11: BWQPS7721F | C11: PANKAJ SHRIVASTAVA | D11: 1300 | E11: 0 | F11: 1300 | G11: 0.0126 | H11: 13000 | I11: 0 | J11: B4I | K11: NRI - NRI REPARTIABLE
A12: 10 | B12: ASCPM8539N | C12: SONIA MATHEW | D12: 650 | E12: 0 | F12: 650 | G12: 0.0063 | H12: 6500 | I12: 0 | J12: B4I | K12: NRI - NRI REPARTIABLE
A13: 11 | B13: BHYPS7830N | C13: KANDAMPATH EDICHERIALINKAZHIL SURESH | D13: 635 | E13: 0 | F13: 635 | G13: 0.0062 | H13: 6350 | I13: 0 | J13: B4I | K13: NRN - NRI NON REPARTIABLE
A14: 12 | B14: BVEPM9336B | C14: LALITA MOHNANI | D14: 600 | E14: 0 | F14: 600 | G14: 0.0058 | H14: 6000 | I14: 0 | J14: B4I | K14: NRN - NRI NON REPARTIABLE
... A59: 57 | B59: BBDPK5678K | C59: DEEPAK KUMAR | D59: 1 | E59: 0 | F59: 1 | G59: 0 | H59: 10 | I59: 0 | J59: B4I | K59: NRN - NRI NON REPARTIABLE
B60: Total | F60: 31919 | G60: 0.3093 | H60: 319190 | I60: 0

Sheet HUF
A1: (m3) | B1: HUF
A2: Sr.No | B2: Pan Number | C2: Name of Shareholders | D2: FP -Shares | E2: PP- Shares | F2: Total Shares | G2: %age | H2: Nom.Value | I2: Debentures | J2: Code | K2: Category
A3: 1 | B3: AAJHA8948N | C3: AKSHAYE JALAN (HUF) | D3: 26464 | E3: 0 | F3: 26464 | G3: 0.2564 | H3: 264640 | I3: 0 | J3: B4M3 | K3: HUF - RESIDENT HUF /APOS
A4: 2 | B4: AARHM3532L | C4: MANOJ KUMAR SHARMA HUF . | D4: 26423 | E4: 0 | F4: 26423 | G4: 0.256 | H4: 264230 | I4: 0 | J4: B4M3 | K4: HUF - RESIDENT HUF /APOS
A5: 3 | B5: AAAHI5369C | C5: Ishwar Sadhwani HUF | D5: 17141 | E5: 0 | F5: 17141 | G5: 0.1661 | H5: 171410 | I5: 0 | J5: B4M3 | K5: HUF - RESIDENT HUF /APOS
A6: 4 | B6: AAKHA6644J | C6: ANIL AGRAWAL HUF . | D6: 14400 | E6: 0 | F6: 14400 | G6: 0.1395 | H6: 144000 | I6: 0 | J6: B4M3 | K6: HUF - RESIDENT HUF /APOS
A7: 5 | B7: AAVHR8559J | C7: RANVIR B TETARWAL HUF . | D7: 13644 | E7: 0 | F7: 13644 | G7: 0.1322 | H7: 136440 | I7: 0 | J7: B4M3 | K7: HUF - RESIDENT HUF /APOS
A8: 6 | B8: AAPHA6831E | C8: ANIL RAMANAND AGARWAL (HUF) . | D8: 11446 | E8: 0 | F8: 11446 | G8: 0.1109 | H8: 114460 | I8: 0 | J8: B4M3 | K8: HUF - RESIDENT HUF /APOS
A9: 7 | B9: AAIHJ4801J | C9: JAIBAGHWAN B SHARMA HUF . | D9: 10200 | E9: 0 | F9: 10200 | G9: 0.0988 | H9: 102000 | I9: 0 | J9: B4M3 | K9: HUF - RESIDENT HUF /APOS
A10: 8 | B10: AAGHH4444D | C10: HIMANSHU SADHWANI (HUF) | D10: 9361 | E10: 0 | F10: 9361 | G10: 0.0907 | H10: 93610 | I10: 0 | J10: B4M3 | K10: HUF - RESIDENT HUF /APOS
A11: 9 | B11: ABKHS1087E | C11: SUNILKUMAR DEVRAJ GOYAL (HUF) | D11: 7953 | E11: 0 | F11: 7953 | G11: 0.0771 | H11: 79530 | I11: 0 | J11: B4M3 | K11: HUF - RESIDENT HUF /APOS
A12: 10 | B12: AALHR7712R | C12: RG HUF | D12: 7433 | E12: 0 | F12: 7433 | G12: 0.072 | H12: 74330 | I12: 0 | J12: B4M3 | K12: HUF - RESIDENT HUF /APOS
A13: 11 | B13: AAPHA0672P | C13: ALPESH HARISHBHAI RAJPUT (HUF) . | D13: 7200 | E13: 0 | F13: 7200 | G13: 0.0698 | H13: 72000 | I13: 0 | J13: B4M3 | K13: HUF - RESIDENT HUF /APOS
A14: 12 | B14: AAHHN6569E | C14: NILESH HARISHBHAI RAJPUT (HUF) . | D14: 7200 | E14: 0 | F14: 7200 | G14: 0.0698 | H14: 72000 | I14: 0 | J14: B4M3 | K14: HUF - RESIDENT HUF /APOS
... A76: 74 | B76: AAAHU5237R | C76: ULHAS P DEBADWAR | D76: 1 | E76: 0 | F76: 1 | G76: 0 | H76: 10 | I76: 0 | J76: B4M3 | K76: HUF - RESIDENT HUF /APOS
B77: Total | F77: 224550 | G77: 2.1759 | H77: 2245500 | I77: 0

Sheet Institutions
A1: (B1) | B1: Institutions
A2: Sr.No | B2: Pan Number | C2: Name of Shareholders | D2: FP -Shares | E2: PP- Shares | F2: Total Shares | G2: % | H2: Nom.Value | I2: Debentures | J2: Code | K2: Category
A3: 1 | B3: AABCQ1764H | C3: QUADRATURE TRADING VCC - SUB-FUND NO. 1 | D3: 46059 | E3: 0 | F3: 46059 | G3: 0.4463 | H3: 460590 | I3: 0 | J3: B2D | K3: FPC - FOREIGN PORTFOLIO INVESTORS-CORPORATE-CAT-I
B4: Total | F4: 46059 | G4: 0.4463 | H4: 460590 | I4: 0

Sheet Public
A1: Individual Shareholders Holding Nominal Share Captial Above Rs. 2 Lac
A2: Sr.No | B2: Pan Number | C2: Name of Shareholders | D2: FP -Shares | E2: PP- Shares | F2: Total Shares | G2: %age | H2: Nom.Value | I2: Debentures | J2: Code | K2: Category
A3: 1 | B3: AAVPM3169K | C3: HEMENDRA RATILAL MEHTA | D3: 449648 | E3: 0 | F3: 449648 | G3: 4.3571 | H3: 4496480 | I3: 0 | J3: B4G | K3: PUB - RESIDENT ORDINARY
A4: 2 | B4: AIHPC3871C | C4: PRITESH PRAKASH CHAVAN | D4: 378133 | E4: 0 | F4: 378133 | G4: 3.6641 | H4: 3781330 | I4: 0 | J4: B4G | K4: PUB - RESIDENT INDIAN
A5: 3 | B5: AAFPJ1644N | C5: AKSHAYE VISHNU JALAN | D5: 46684 | E5: 0 | F5: 46684 | G5: 0.4524 | H5: 466840 | I5: 0 | J5: B4G | K5: PUB - RESIDENT ORDINARY
A6: 4 | B6: ALAPR1912P | C6: RANA PRANALI KIRTIKUMAR | D6: 36900 | E6: 0 | F6: 36900 | G6: 0.3576 | H6: 369000 | I6: 0 | J6: B4G | K6: PUB - RESIDENT ORDINARY
A7: 5 | B7: AJYPA6425E | C7: MANISHA ANIL AGRAWAL | D7: 35731 | E7: 0 | F7: 35731 | G7: 0.3462 | H7: 357310 | I7: 0 | J7: B4G | K7: PUB - RESIDENT ORDINARY
A8: 6 | B8: CSCPK0937Q | C8: RAVINDRA KUMAR | D8: 34550 | E8: 0 | F8: 34550 | G8: 0.3348 | H8: 345500 | I8: 0 | J8: B4G | K8: PUB - RESIDENT ORDINARY
A9: 7 | B9: ABDPL0634M | C9: TANAJI DADOBA LOLE | D9: 33895 | E9: 0 | F9: 33895 | G9: 0.3284 | H9: 338950 | I9: 0 | J9: B4G | K9: PUB - RESIDENT INDIVIDUAL-NEGATIVE NOMINATIONS
A10: 8 | B10: CEQPT3344J | C10: Urvish Maheshbhai Tavethiya | D10: 30689 | E10: 0 | F10: 30689 | G10: 0.2974 | H10: 306890 | I10: 0 | J10: B4G | K10: PUB - RESIDENT ORDINARY
A11: 9 | B11: AIRPG3376N | C11: DHRUV GUPTA | D11: 29991 | E11: 0 | F11: 29991 | G11: 0.2906 | H11: 299910 | I11: 0 | J11: B4G | K11: PUB - RESIDENT INDIAN
A12: 10 | B12: BAWPP8872J | C12: AMOL MOHAN PENDKALKAR | D12: 27000 | E12: 0 | F12: 27000 | G12: 0.2616 | H12: 270000 | I12: 0 | J12: B4G | K12: PUB - RESIDENT ORDINARY
A13: 11 | B13: QIHPS8192E | C13: HIMANSHU SHARMA | D13: 24800 | E13: 0 | F13: 24800 | G13: 0.2403 | H13: 248000 | I13: 0 | J13: B4G | K13: PUB - RESIDENT ORDINARY
A14: 12 | B14: ANLPD1916A | C14: PRIYANKA NISHIT SHAH | D14: 24000 | E14: 0 | F14: 24000 | G14: 0.2326 | H14: 240000 | I14: 0 | J14: B4G | K14: PUB - RESIDENT INDIAN
... A16: 14 | B16: AGHPA6175H | C16: ANIL RAMANAND AGARWAL | D16: 21275 | E16: 0 | F16: 21275 | G16: 0.2062 | H16: 212750 | I16: 0 | J16: B4G | K16: PUB - RESIDENT ORDINARY
B17: Total | F17: 1196296 | G17: 11.592 | H17: 11962960 | I17: 0

Sheet Firms
A1: (m5) | B1: Firms
A2: Sr.No | B2: Pan Number | C2: Name of Shareholders | D2: FP -Shares | E2: PP- Shares | F2: Total Shares | G2: %age | H2: Nom.Value | I2: Debentures | J2: Code | K2: Category
A3: 1 | B3: ABWFA0368C | C3: BANSARI HARSH ANARKAT | D3: 5000 | E3: 0 | F3: 5000 | G3: 0.0484 | H3: 50000 | I3: 0 | J3: B4M5 | K3: PUB - RESIDENT INDIVIDUAL-NEGATIVE NOMINATIONS
A4: 2 | B4: AAJFD4160F | C4: VIPUL DHIRAJLAL SHAH | D4: 1500 | E4: 0 | F4: 1500 | G4: 0.0145 | H4: 15000 | I4: 0 | J4: B4M5 | K4: PUB - RESIDENT INDIAN
A5: 3 | B5: ADPFS7939G | C5: MAHESH GIRDHARLAL MARADIA | D5: 270 | E5: 0 | F5: 270 | G5: 0.0026 | H5: 2700 | I5: 0 | J5: B4M5 | K5: PUB - RESIDENT INDIAN
A6: 4 | B6: AATFD7018A | C6: EKANSH GUPTA | D6: 100 | E6: 0 | F6: 100 | G6: 0.001 | H6: 1000 | I6: 0 | J6: B4M5 | K6: PUB - RESIDENT INDIVIDUAL-NEGATIVE NOMINATIONS
A7: 5 | B7: AAOFG3119Q | C7: RAJESH S NAYAK | D7: 1 | E7: 0 | F7: 1 | G7: 0 | H7: 10 | I7: 0 | J7: B4M5 | K7: PUB - RESIDENT ORDINARY
B8: Total | F8: 6871 | G8: 0.0666 | H8: 68710 | I8: 0

Sheet Distribution of Holding
A1: RELIABLE DATA SERVICES LTD
A3: DISTRIBUTION OF 10320000 EQUITY SHARE CAPITAL AS ON :31/03/2026
A4: PAN CONSOLIDATION
A5: Share or Debenture holding Nominal Value | B5: Number of Shareholders | C5: % to Total Numbers | D5: Share or Debenture holding Amount | E5: % to Total Amount
A6: (Rs.) | D6: (Rs.)
A7: 1 | B7: 2 | C7: 3 | D7: 4 | E7: 5
A8: Up To 5,000 | B8: 4782 | C8: 88.59 | D8: 2914890 | E8: 2.82
A9: 5001 To 10,000 | B9: 225 | C9: 4.17 | D9: 1789910 | E9: 1.73
A10: 10001 To 20,000 | B10: 140 | C10: 2.59 | D10: 2121900 | E10: 2.06
A11: 20001 To 30,000 | B11: 90 | C11: 1.67 | D11: 2231250 | E11: 2.16
A12: 30001 To 40,000 | B12: 41 | C12: 0.76 | D12: 1440430 | E12: 1.4
A13: 40001 To 50,000 | B13: 20 | C13: 0.37 | D13: 931210 | E13: 0.9
A14: 50001 To 1,00,000 | B14: 48 | C14: 0.89 | D14: 3401650 | E14: 3.3
A15: 1,00,000 and Above | B15: 52 | C15: 0.96 | D15: 88368760 | E15: 85.63
A16: Total | B16: 5398 | C16: 100 | D16: 103200000 | E16: 100
A21: PAN CONSOLIDATION
A22: No. of Shares or Debentures | B22: Number of Shareholders | C22: % to Total Numbers | D22: Share or Debenture Held | E22: % to Holding
A23: 1 | B23: 2 | C23: 3 | D23: 4 | E23: 5
A24: Up To 500 | B24: 4782 | C24: 88.59 | D24: 291489 | E24: 2.82
A25: 501 To 1000 | B25: 225 | C25: 4.17 | D25: 178991 | E25: 1.73
A26: 1001 To 2000 | B26: 140 | C26: 2.59 | D26: 212190 | E26: 2.06
A27: 2001 To 3000 | B27: 90 | C27: 1.67 | D27: 223125 | E27: 2.16
A28: 3001 To 4000 | B28: 41 | C28: 0.76 | D28: 144043 | E28: 1.4
A29: 4001 To 5000 | B29: 20 | C29: 0.37 | D29: 93121 | E29: 0.9
A30: 5001 To 10000 | B30: 48 | C30: 0.89 | D30: 340165 | E30: 3.3
A31: 10000 and Above | B31: 52 | C31: 0.96 | D31: 8836876 | E31: 85.63
A32: Total | B32: 5398 | C32: 100 | D32: 10320000 | E32: 100
A37: WITHOUT PAN CONSOLIDATION
A38: Share or Debenture holding Nominal Value | B38: Number of Shareholders | C38: % to Total Numbers | D38: Share or Debenture holding Amount | E38: % to Total Amount
A39: (Rs.) | D39: (Rs.)
A40: 1 | B40: 2 | C40: 3 | D40: 4 | E40: 5
A41: Up To 5,000 | B41: 4867 | C41: 88.52 | D41: 2997900 | E41: 2.9
A42: 5001 To 10,000 | B42: 230 | C42: 4.18 | D42: 1830240 | E42: 1.77
A43: 10001 To 20,000 | B43: 145 | C43: 2.64 | D43: 2201530 | E43: 2.13
A44: 20001 To 30,000 | B44: 92 | C44: 1.67 | D44: 2291410 | E44: 2.22
A45: 30001 To 40,000 | B45: 37 | C45: 0.67 | D45: 1295090 | E45: 1.25
A46: 40001 To 50,000 | B46: 22 | C46: 0.4 | D46: 1011480 | E46: 0.98
A47: 50001 To 1,00,000 | B47: 53 | C47: 0.96 | D47: 3758220 | E47: 3.64
A48: 1,00,000 and Above | B48: 52 | C48: 0.95 | D48: 87814130 | E48: 85.09
A49: Total | B49: 5498 | C49: 100 | D49: 103200000 | E49: 100
...

Sheet Pldgshrs
A1: (l) | B1: Pledged Shares
A2: Sr.No | B2: Pan Number | C2: Name of Shareholders | D2: FP -Shares | E2: PP- Shares | F2: Total Shares | G2: %age | H2: Nom.Value | I2: Debentures | J2: Pledged Shares | K2: Folio No/DPID-Clientid
A3: 1 | B3: AAVPM3169K | C3: HEMENDRA RATILAL MEHTA | D3: 449648 | E3: 0 | F3: 449648 | G3: 4.3571 | H3: 4496480 | I3: 0 | J3: 201415 | K3: 1201060002157227
A4: 2 | B4: AADFY0336Q | C4: ALTIZEN VENTURES | D4: 69973 | E4: 0 | F4: 69973 | G4: 0.678 | H4: 699730 | I4: 0 | J4: 69973 | K4: 1206720000125774
A5: 3 | B5: AACCL7130P | C5: L7 HITECH PRIVATE LIMITED | D5: 39378 | E5: 0 | F5: 39378 | G5: 0.3816 | H5: 393780 | I5: 0 | J5: 39378 | K5: 1207590000020952
A6: 4 | B6: AAJHA8948N | C6: AKSHAYE JALAN (HUF) | D6: 26464 | E6: 0 | F6: 26464 | G6: 0.2564 | H6: 264640 | I6: 0 | J6: 26464 | K6: 1201060007533783
A7: 5 | B7: ABEFP6259R | C7: PARUMAL CONSULTANTS LLP | D7: 10000 | E7: 0 | F7: 10000 | G7: 0.0969 | H7: 100000 | I7: 0 | J7: 10000 | K7: 1207590000038860
A8: 6 | B8: ACYPK3574B | C8: RAJESH CHUNILAL KATIRA | D8: 7039 | E8: 0 | F8: 7039 | G8: 0.0682 | H8: 70390 | I8: 0 | J8: 7039 | K8: 1203510000160433
A9: 7 | B9: ACDPB3998H | C9: KATIRA CHANDNI RAJESH | D9: 2800 | E9: 0 | F9: 2800 | G9: 0.0271 | H9: 28000 | I9: 0 | J9: 2800 | K9: 1203510000160429
A10: 8 | B10: CKYPS9793Q | C10: PANNA UTTAMKUMAR SHAH | D10: 2400 | E10: 0 | F10: 2400 | G10: 0.0233 | H10: 24000 | I10: 0 | J10: 2400 | K10: 1202870000084693
A11: 9 | B11: AZTPS5763J | C11: HARDIK DILIPKUMAR SHAH | D11: 2400 | E11: 0 | F11: 2400 | G11: 0.0233 | H11: 24000 | I11: 0 | J11: 2400 | K11: IN30186270652642
A12: 10 | B12: ALQPP0375C | C12: SWETA LALITBHAI PATEL | D12: 2400 | E12: 0 | F12: 2400 | G12: 0.0233 | H12: 24000 | I12: 0 | J12: 2400 | K12: 1202870000062012
A13: 11 | B13: ACPPN3235P | C13: RAVINDRA RAGHUNATH NAIK | D13: 1770 | E13: 0 | F13: 1770 | G13: 0.0172 | H13: 17700 | I13: 0 | J13: 1770 | K13: 1201060007487085
A14: 12 | B14: AGXPJ9546M | C14: MRS. JYOTI | D14: 1917 | E14: 0 | F14: 1917 | G14: 0.0186 | H14: 19170 | I14: 0 | J14: 1679 | K14: 1201092600085527
... A39: 37 | B39: AICPM0984B | C39: ABHA CHANDRASHEKHAR MENON | D39: 1 | E39: 0 | F39: 1 | G39: 0 | H39: 10 | I39: 0 | J39: 1 | K39: 1201090037213949
B40: Total | F40: 637716 | G40: 6.1794 | H40: 6377160 | I40: 0 | J40: 375224
